BEGIN:VCALENDAR
VERSION:2.0
PRODID:-//Langley Local Immigration Partnership - ECPv6.14.0//NONSGML v1.0//EN
CALSCALE:GREGORIAN
METHOD:PUBLISH
X-WR-CALNAME:Langley Local Immigration Partnership
X-ORIGINAL-URL:https://langleylip.ca
X-WR-CALDESC:Events for Langley Local Immigration Partnership
REFRESH-INTERVAL;VALUE=DURATION:PT1H
X-Robots-Tag:noindex
X-PUBLISHED-TTL:PT1H
BEGIN:VTIMEZONE
TZID:UTC
BEGIN:STANDARD
TZOFFSETFROM:+0000
TZOFFSETTO:+0000
TZNAME:UTC
DTSTART:20230101T000000
END:STANDARD
END:VTIMEZONE
BEGIN:VEVENT
DTSTART;TZID=UTC:20230114T080000
DTEND;TZID=UTC:20230114T170000
DTSTAMP:20260421T200700
CREATED:20230114T010108Z
LAST-MODIFIED:20230114T010108Z
UID:3630-1673683200-1673715600@langleylip.ca
SUMMARY:Supporting Settlement and Integration Frontline Staff in Wellbeing
DESCRIPTION:Supporting Settlement and Integration Frontline Staff in Wellbeing: A Webinar for Management and Leadership \nFront-line workers in Settlement and Integration sector experience difficult and complex situations daily which has been intensified during the Covid 19 pandemic. This exposure affects their mental health proportionally\, preventing them from performing their job properly jeopardizing their own wellbeing. This webinar aims to go over the guidelines and best practices that Executive Directors (EDs) and leaders in the Settlement and Integration sector can adopt at their organizations to support and enhance staff capacity and techniques to overcome burnout but also to ensure higher retention rates.\n___\nSoutenir le bien-être du personnel de première ligne du secteur de l’établissement et de l’intégration : un webinaire à l’intention des gestionnaires et des cadres dirigeants \nLe personnel de première ligne du secteur de l’établissement et de l’intégration gère quotidiennement des situations difficiles et complexes qui se sont intensifiées pendant la pandémie de COVID-19. Leur exposition à de telles situations se répercute proportionnellement sur leur santé mentale\, les empêchant d’effectuer correctement leur travail et mettant en péril leur propre bien-être. Ce webinaire a pour but de passer en revue certaines lignes directrices et pratiques exemplaires que la direction générale et les cadres du secteur de l’établissement et de l’intégration peuvent mettre en place dans leur organisme afin de soutenir le personnel et de renforcer leurs compétences et les techniques utilisées pour surmonter l’épuisement professionnel ainsi que pour assurer un taux élevé de rétention.
URL:https://langleylip.ca/event/supporting-settlement-and-integration-frontline-staff-in-wellbeing/
LOCATION:BC
END:VEVENT
BEGIN:VEVENT
DTSTART;TZID=UTC:20230116T110000
DTEND;TZID=UTC:20230116T140000
DTSTAMP:20260421T200700
CREATED:20230105T005759Z
LAST-MODIFIED:20230105T005759Z
UID:3456-1673866800-1673877600@langleylip.ca
SUMMARY:Maple Ridge Job Fair
DESCRIPTION:CloudHire virtual job fairs are a convenient and efficient way to interview and network with dozens of employers in 3 hours. Whether you are actively seeking a new job or just looking to explore new opportunities\, CloudHire job fairs are a great way to meet with hiring managers from the comfort of your home.
URL:https://langleylip.ca/event/maple-ridge-job-fair/
LOCATION:BC
END:VEVENT
BEGIN:VEVENT
DTSTART;TZID=UTC:20230118T180000
DTEND;TZID=UTC:20230118T190000
DTSTAMP:20260421T200700
CREATED:20221209T050709Z
LAST-MODIFIED:20221209T050709Z
UID:3323-1674064800-1674068400@langleylip.ca
SUMMARY:Canada Child Benefit Application Info Session
DESCRIPTION:Are you a work-permit or study-permit holder and have questions about child care benefits? Learn about what it is\, who can apply\, how to apply\, and how much you can receive at this workshop. Q&A session included. \n  \n 
URL:https://langleylip.ca/event/canada-child-benefit-application-info-session/
LOCATION:BC
END:VEVENT
BEGIN:VEVENT
DTSTART;TZID=UTC:20230124T100000
DTEND;TZID=UTC:20230124T120000
DTSTAMP:20260421T200700
CREATED:20230114T005730Z
LAST-MODIFIED:20230114T005730Z
UID:3628-1674554400-1674561600@langleylip.ca
SUMMARY:Innovative Employment Supports for Refugees and Refugee Claimants
DESCRIPTION:This webinar\, hosted by ISSofBC’s BC Refugee Hub\, will focus on innovative employment programs for refugees and refugee claimants. We will share challenges\, best practices and successes in supporting newcomer refugees and refugee claimants in connecting to meaningful employment in the Canadian labour market. \nWe will hear from YWCA’s Afghan Women’s Employment (AWE) program\, an employment and training program that supports Afghan refugee women in exploring and securing careers or further education in Canada. \nWe will also hear from ISSofBC’s Gateway to Tourism & Hospitality Jobs for Newcomers program\, a free program that helps immigrants\, refugees and refugee claimants access free fully funded training opportunities to find tourism and hospitality jobs. \nLearn about both programs approaches\, challenges\, successes and program models during this live webinar. We will have plenty of time for a Q&A session with our speakers. \nThis webinar is suitable for those working in front-line positions\, coordinators and managers at settlement service provider agencies\, as well as community stakeholders who work with and support refugees and refugee claimants.
URL:https://langleylip.ca/event/innovative-employment-supports-for-refugees-and-refugee-claimants/
LOCATION:BC
END:VEVENT
BEGIN:VEVENT
DTSTART;TZID=UTC:20230127T130000
DTEND;TZID=UTC:20230127T160000
DTSTAMP:20260421T200700
CREATED:20230115T234104Z
LAST-MODIFIED:20230115T234104Z
UID:3639-1674824400-1674835200@langleylip.ca
SUMMARY:ISSofBC Skilled Immigrants Hiring Fair
DESCRIPTION:ISSofBC Career Paths is pleased to host an In-Person Skilled Immigrants Job Fair in partnership with Gateway to Tourism and SmartMove with employers such as the City of Vancouver\, Canucks Sports and Entertainment (CSE)\, Microserve\, Sophos\, Parq Vancouver\, Building Builders\, FPS Food Processing Solutions\, the Pacific National Exhibition (PNE)\, Vancouver Coastal Health\, bioLytical Laboratories Inc.\, and ISSofBC.
URL:https://langleylip.ca/event/issofbc-skilled-immigrants-hiring-fair/
LOCATION:BC
END:VEVENT
BEGIN:VEVENT
DTSTART;TZID=UTC:20230129T133000
DTEND;TZID=UTC:20230129T143000
DTSTAMP:20260421T200700
CREATED:20230105T010816Z
LAST-MODIFIED:20230105T010816Z
UID:3462-1674999000-1675002600@langleylip.ca
SUMMARY:Let’s Celebrate Chinese New Year!
DESCRIPTION:Join us for a traditional performance featuring the Fortune God and Folk dance. Followed by Chinese New Year craft and festive new year goodies. This event is in partnership with the Tzu Chi Charity Foundation. \nDrop-in\, everyone is welcome.
URL:https://langleylip.ca/event/lets-celebrate-chinese-new-year/
LOCATION:BC
END:VEVENT
END:VCALENDAR