BEGIN:VCALENDAR
VERSION:2.0
PRODID:-//Langley Local Immigration Partnership - ECPv6.14.0//NONSGML v1.0//EN
CALSCALE:GREGORIAN
METHOD:PUBLISH
X-ORIGINAL-URL:https://langleylip.ca
X-WR-CALDESC:Events for Langley Local Immigration Partnership
REFRESH-INTERVAL;VALUE=DURATION:PT1H
X-Robots-Tag:noindex
X-PUBLISHED-TTL:PT1H
BEGIN:VTIMEZONE
TZID:UTC
BEGIN:STANDARD
TZOFFSETFROM:+0000
TZOFFSETTO:+0000
TZNAME:UTC
DTSTART:20220101T000000
END:STANDARD
END:VTIMEZONE
BEGIN:VEVENT
DTSTART;TZID=UTC:20220710T080000
DTEND;TZID=UTC:20220710T123000
DTSTAMP:20260421T121305
CREATED:20220609T052901Z
LAST-MODIFIED:20220609T052901Z
UID:2344-1657440000-1657456200@langleylip.ca
SUMMARY:2022 Walk with the Dragon
DESCRIPTION:The walk is once again returning to Stanley Park as an in-person event after two years of being a virtual event due to the pandemic.\nIn addition to the walkathon itself\, the event will also include live entertainment. As always\, this is an inclusive and family-friendly event.\nProceeds will support the wellness of our communities\, particularly essential S.U.C.C.E.S.S. programs for families\, youth\, women\, and seniors. \nMore details coming soon!\nFor more information contact:\nS.U.C.C.E.S.S. Foundation\nfundraising@success.bc.ca\n604-408-7228
URL:https://langleylip.ca/event/2022-walk-with-the-dragon/
LOCATION:BC
END:VEVENT
BEGIN:VEVENT
DTSTART;VALUE=DATE:20220713
DTEND;VALUE=DATE:20220714
DTSTAMP:20260421T121305
CREATED:20220709T001651Z
LAST-MODIFIED:20220709T001651Z
UID:2466-1657670400-1657756799@langleylip.ca
SUMMARY:Celebrating Trades in Maple Ridge
DESCRIPTION:
URL:https://langleylip.ca/event/celebrating-trades-in-maple-ridge/
LOCATION:BC
END:VEVENT
BEGIN:VEVENT
DTSTART;VALUE=DATE:20220719
DTEND;VALUE=DATE:20220720
DTSTAMP:20260421T121305
CREATED:20220709T001445Z
LAST-MODIFIED:20220713T193614Z
UID:2459-1658188800-1658275199@langleylip.ca
SUMMARY:Connect with a mentor who can help you navigate your career
DESCRIPTION:
URL:https://langleylip.ca/event/connect-with-a-mentor-who-can-help-you-navigate-your-career/
LOCATION:BC
END:VEVENT
BEGIN:VEVENT
DTSTART;VALUE=DATE:20220720
DTEND;VALUE=DATE:20220721
DTSTAMP:20260421T121305
CREATED:20220613T194552Z
LAST-MODIFIED:20220613T194552Z
UID:2374-1658275200-1658361599@langleylip.ca
SUMMARY:Start your Career with Air Canada
DESCRIPTION:Air Canada is Canada’s largest domestic and international airline serving more than 210 airports on six continents. Are you interested in joining and finding out more? \nAvailable positions: Ramp Agent\, Cabin Service and Cleaning Attendant\, Bilingual Customer Sales and Service Agent and more. \nJoin this online event to learn about: \n>>The culture and values of Air Canada\n>>Upcoming opportunities\n>>Hiring process\n>>Some advice or tips for preparing a job application \nFor inquiry please contact : ning.zhang@issbc.org \n  \nISSofBC Calendar: https://issbc.org/event/start-your-career-with-air-canada
URL:https://langleylip.ca/event/start-your-career-with-air-canada/
LOCATION:BC
END:VEVENT
BEGIN:VEVENT
DTSTART;VALUE=DATE:20220720
DTEND;VALUE=DATE:20220721
DTSTAMP:20260421T121305
CREATED:20220709T001117Z
LAST-MODIFIED:20220709T001117Z
UID:2458-1658275200-1658361599@langleylip.ca
SUMMARY:Employment Opportunities for Newcomers
DESCRIPTION:
URL:https://langleylip.ca/event/employment-opportunities-for-newcomers/
LOCATION:BC
END:VEVENT
BEGIN:VEVENT
DTSTART;VALUE=DATE:20220728
DTEND;VALUE=DATE:20220729
DTSTAMP:20260421T121305
CREATED:20220617T032914Z
LAST-MODIFIED:20220617T032914Z
UID:2404-1658966400-1659052799@langleylip.ca
SUMMARY:PICS Mega Job Fair Surrey 2022
DESCRIPTION:The PICS Mega Job Fair is coming again! The Mega Job Fair has taken place for over 10 years and is a highly successful event in the Lower Mainland. The purpose of the job fair is to reduce the stress and pressures both employers and job seekers face when job searching\, recruiting\, and networking. Thousands of attendees and numerous exhibitors participate each year\, making this day a productive and fun-filled experience for everyone who attends. This event benefits both job seekers and employers. Job seekers can explore career options with employers such as retailers\, restaurants\, service providers\, banks\, credit unions\, and crown corporations; while employers can meet and recruit motivated candidates. The event further serves as a great opportunity to network and build brand awareness. PICS Surrey Mega Job Fair 2022 will be a grand affair\, and we look forward to seeing you there!
URL:https://langleylip.ca/event/pics-mega-job-fair-surrey-2022/
LOCATION:BC
END:VEVENT
BEGIN:VEVENT
DTSTART;VALUE=DATE:20220728
DTEND;VALUE=DATE:20220729
DTSTAMP:20260421T121305
CREATED:20220722T042031Z
LAST-MODIFIED:20220722T042031Z
UID:2494-1658966400-1659052799@langleylip.ca
SUMMARY:Maple Ridge Career & Post-secondary Education Event
DESCRIPTION:
URL:https://langleylip.ca/event/maple-ridge-career-post-secondary-education-event/
LOCATION:BC
END:VEVENT
END:VCALENDAR