BEGIN:VCALENDAR
VERSION:2.0
PRODID:-//Langley Local Immigration Partnership - ECPv6.14.0//NONSGML v1.0//EN
CALSCALE:GREGORIAN
METHOD:PUBLISH
X-WR-CALNAME:Langley Local Immigration Partnership
X-ORIGINAL-URL:https://langleylip.ca
X-WR-CALDESC:Events for Langley Local Immigration Partnership
REFRESH-INTERVAL;VALUE=DURATION:PT1H
X-Robots-Tag:noindex
X-PUBLISHED-TTL:PT1H
BEGIN:VTIMEZONE
TZID:UTC
BEGIN:STANDARD
TZOFFSETFROM:+0000
TZOFFSETTO:+0000
TZNAME:UTC
DTSTART:20220101T000000
END:STANDARD
END:VTIMEZONE
BEGIN:VEVENT
DTSTART;TZID=UTC:20220602T100000
DTEND;TZID=UTC:20220602T143000
DTSTAMP:20260421T104528
CREATED:20220325T044505Z
LAST-MODIFIED:20220325T044505Z
UID:2115-1654164000-1654180200@langleylip.ca
SUMMARY:YOUTH CAREER HIRING FAIR
DESCRIPTION:This event is open to Grade 11 and 12 students looking for work and students involved in Trades and Apprenticeship Programs.
URL:https://langleylip.ca/event/youth-career-hiring-fair/
LOCATION:BC
END:VEVENT
BEGIN:VEVENT
DTSTART;TZID=UTC:20220607T123000
DTEND;TZID=UTC:20220607T130000
DTSTAMP:20260421T104528
CREATED:20220527T040958Z
LAST-MODIFIED:20220527T040958Z
UID:2289-1654605000-1654606800@langleylip.ca
SUMMARY:Newcomer Women Session
DESCRIPTION:What if we told you that you can receive support from a mentor who can help you navigate the next stage of your career in Canada?
URL:https://langleylip.ca/event/newcomer-women-session/
LOCATION:BC
END:VEVENT
BEGIN:VEVENT
DTSTART;TZID=UTC:20220609T093000
DTEND;TZID=UTC:20220609T103000
DTSTAMP:20260421T104528
CREATED:20220516T210200Z
LAST-MODIFIED:20220516T210238Z
UID:2262-1654767000-1654770600@langleylip.ca
SUMMARY:Library Champions Project - Summer Regional Group
DESCRIPTION:The NewToBC Team is always looking for new Library Champions!
URL:https://langleylip.ca/event/library-champions-project-summer-regional-group/
LOCATION:BC
END:VEVENT
BEGIN:VEVENT
DTSTART;VALUE=DATE:20220612
DTEND;VALUE=DATE:20220613
DTSTAMP:20260421T104528
CREATED:20220604T001228Z
LAST-MODIFIED:20220604T001228Z
UID:2306-1654992000-1655078399@langleylip.ca
SUMMARY:Volunteer Senior Facilitator Needed
DESCRIPTION:
URL:https://langleylip.ca/event/volunteer-senior-facilitator-needed/
LOCATION:BC
END:VEVENT
BEGIN:VEVENT
DTSTART;VALUE=DATE:20220615
DTEND;VALUE=DATE:20220616
DTSTAMP:20260421T104528
CREATED:20220610T021926Z
LAST-MODIFIED:20220610T021926Z
UID:2350-1655251200-1655337599@langleylip.ca
SUMMARY:Resume Writing Workshop
DESCRIPTION:
URL:https://langleylip.ca/event/resume-writing-workshop/
LOCATION:BC
END:VEVENT
BEGIN:VEVENT
DTSTART;TZID=UTC:20220618T110000
DTEND;TZID=UTC:20220618T160000
DTSTAMP:20260421T104528
CREATED:20220606T180622Z
LAST-MODIFIED:20220606T180622Z
UID:2326-1655550000-1655568000@langleylip.ca
SUMMARY:National Indigenous Day
DESCRIPTION:
URL:https://langleylip.ca/event/national-indigenous-day/
LOCATION:BC
END:VEVENT
BEGIN:VEVENT
DTSTART;VALUE=DATE:20220623
DTEND;VALUE=DATE:20220624
DTSTAMP:20260421T104528
CREATED:20220617T032332Z
LAST-MODIFIED:20220617T032332Z
UID:2401-1655942400-1656028799@langleylip.ca
SUMMARY:Langley Education and Career Fair
DESCRIPTION:Meet your new employer or enrol in a post-secondary educational institute at the Langley Post-Secondary Education & Career Event! \nWe invite you to join us on June 23rd\, 2022 at the Langley Events Centre\, 7888 200 St. Langley BC. This event will feature employers\, education institutions and service providers throughout the Lower Mainland region that are ready to help you on your career path.
URL:https://langleylip.ca/event/langley-education-and-career-fair/
LOCATION:BC
END:VEVENT
BEGIN:VEVENT
DTSTART;TZID=UTC:20220624T103000
DTEND;TZID=UTC:20220624T120000
DTSTAMP:20260421T104528
CREATED:20220603T235728Z
LAST-MODIFIED:20220603T235728Z
UID:2302-1656066600-1656072000@langleylip.ca
SUMMARY:PR Card Renewal Application - Free Webinar for Korean Immigrants
DESCRIPTION:
URL:https://langleylip.ca/event/pr-card-renewal-application-free-webinar-for-korean-immigrants/
LOCATION:BC
END:VEVENT
BEGIN:VEVENT
DTSTART;VALUE=DATE:20220627
DTEND;VALUE=DATE:20220628
DTSTAMP:20260421T104528
CREATED:20220614T201805Z
LAST-MODIFIED:20220614T202004Z
UID:2383-1656288000-1656374399@langleylip.ca
SUMMARY:Skills to SUCCESS
DESCRIPTION:The Skills to Success is an employment program that helps youth overcome barriers in employment by offering supports tailored to their needs through skills training which will empower them to participate in\nthe current and future labour market. Wage subsidized placements with employers may be arranged after the training to gain experience in the workplace.
URL:https://langleylip.ca/event/skills-to-success/
LOCATION:BC
END:VEVENT
BEGIN:VEVENT
DTSTART;TZID=UTC:20220630T100000
DTEND;TZID=UTC:20220630T113000
DTSTAMP:20260421T104528
CREATED:20220610T223121Z
LAST-MODIFIED:20220610T223121Z
UID:2354-1656583200-1656588600@langleylip.ca
SUMMARY:BC省的家庭照護服務Home Care Service -家庭支持 Home Support
DESCRIPTION:
URL:https://langleylip.ca/event/bc%e7%9c%81%e7%9a%84%e5%ae%b6%e5%ba%ad%e7%85%a7%e8%ad%b7%e6%9c%8d%e5%8b%99home-care-service-%e5%ae%b6%e5%ba%ad%e6%94%af%e6%8c%81-home-support/
LOCATION:BC
END:VEVENT
END:VCALENDAR