BEGIN:VCALENDAR
VERSION:2.0
PRODID:-//Langley Local Immigration Partnership - ECPv6.14.0//NONSGML v1.0//EN
CALSCALE:GREGORIAN
METHOD:PUBLISH
X-WR-CALNAME:Langley Local Immigration Partnership
X-ORIGINAL-URL:https://langleylip.ca
X-WR-CALDESC:Events for Langley Local Immigration Partnership
REFRESH-INTERVAL;VALUE=DURATION:PT1H
X-Robots-Tag:noindex
X-PUBLISHED-TTL:PT1H
BEGIN:VTIMEZONE
TZID:UTC
BEGIN:STANDARD
TZOFFSETFROM:+0000
TZOFFSETTO:+0000
TZNAME:UTC
DTSTART:20210101T000000
END:STANDARD
END:VTIMEZONE
BEGIN:VEVENT
DTSTART;TZID=UTC:20210914T133000
DTEND;TZID=UTC:20210914T150000
DTSTAMP:20260420T214010
CREATED:20210730T052540Z
LAST-MODIFIED:20210730T052540Z
UID:1424-1631626200-1631631600@langleylip.ca
SUMMARY:Community Meetings
DESCRIPTION:
URL:https://langleylip.ca/event/community-meetings/
LOCATION:BC
END:VEVENT
BEGIN:VEVENT
DTSTART;TZID=UTC:20210916T080000
DTEND;TZID=UTC:20210916T170000
DTSTAMP:20260420T214010
CREATED:20210728T175739Z
LAST-MODIFIED:20210728T175739Z
UID:1406-1631779200-1631811600@langleylip.ca
SUMMARY:Register to become a Library Champion
DESCRIPTION:The NewToBC Team is always looking for new Library Champions! Each year more than 150 people are trained as Library Champions. We offer 15 groups per year delivered in different cities across Metro Vancouver and the Fraser Valley. \nThe Library Champions Project (LCP) is looking for newcomers who are: \n\nA permanent resident\, but not yet a Canadian citizen\n19 years of age or older\nEnthusiastic about libraries\nInterested in volunteering in the community to share information about library and settlement resources with other newcomers
URL:https://langleylip.ca/event/register-to-become-a-library-champion/
LOCATION:BC
END:VEVENT
BEGIN:VEVENT
DTSTART;TZID=UTC:20210921T090000
DTEND;TZID=UTC:20210921T100000
DTSTAMP:20260420T214010
CREATED:20210919T160147Z
LAST-MODIFIED:20210919T160147Z
UID:1527-1632214800-1632218400@langleylip.ca
SUMMARY:Amazon Hiring Fair - Pitt Meadows
DESCRIPTION:Amazon is coming to Ridge Meadows! WorkBC Maple Ridge is hosting an Exclusive Virtual Hiring Fair on September 21st. Amazon offers $16.25 to start with a comprehensive benefits package.
URL:https://langleylip.ca/event/amazon-hiring-fair-pitt-meadows/
LOCATION:BC
END:VEVENT
BEGIN:VEVENT
DTSTART;TZID=UTC:20210921T090000
DTEND;TZID=UTC:20210921T130000
DTSTAMP:20260420T214010
CREATED:20210819T222759Z
LAST-MODIFIED:20210819T222759Z
UID:1458-1632214800-1632229200@langleylip.ca
SUMMARY:Hope in Action: Approaches to Career Development
DESCRIPTION:Are you an employment specialist or CCDP in the nonprofit sector? \nJoin DIVERSEcity’s Employment team for this special professional development opportunity. Hope-Action Theory and practice provides a framework for understanding and working within the challenging times we are in. Listen to Norm Amundson and Andrea Fruhling\, PCC in this two-part series\, and learn to combine the hope-action theory with the award-winning actively engaged approach (Active Engagement) to career development to implement career exploration and decision-making experiences that are memorable\, and provide clients strategies to incorporate hope-action within their journey. \nFees for training are $325 per participant and payable to DIVERSEcity upon registration.
URL:https://langleylip.ca/event/hope-in-action-approaches-to-career-development/
LOCATION:BC
END:VEVENT
BEGIN:VEVENT
DTSTART;TZID=UTC:20210923T093000
DTEND;TZID=UTC:20210923T110000
DTSTAMP:20260420T214010
CREATED:20210917T174226Z
LAST-MODIFIED:20210917T174226Z
UID:1522-1632389400-1632394800@langleylip.ca
SUMMARY:CPN Zoominar: Engaging Diverse Families through Sport and Physical Activity
DESCRIPTION:How can sport and recreation programs benefit diverse families and newcomers? \nWhat key strategies can your sports and recreation organizations utilize to effectively engage diverse families? \nHow can community\, sports and recreation organizations foster greater cultural competency in their programs? \nJoin with the Community Partnership Network for this informative session on Thursday September 23 9:30am-11:00am
URL:https://langleylip.ca/event/cpn-zoominar-engaging-diverse-families-through-sport-and-physical-activity/
LOCATION:BC
END:VEVENT
BEGIN:VEVENT
DTSTART;TZID=UTC:20210927T080000
DTEND;TZID=UTC:20211108T170000
DTSTAMP:20260420T214010
CREATED:20210902T155329Z
LAST-MODIFIED:20210902T155559Z
UID:1484-1632729600-1636390800@langleylip.ca
SUMMARY:Registration now open! Immigrant and Refugee Mental Health Fall Course
DESCRIPTION:The Immigrant and Refugee Mental Health Course\, funded by Immigration\, Refugees and Citizenship Canada (IRCC)\, offers evidence-based information\, tools and resources for service providers to provide mental health care and support to both immigrants and refugees arriving in Canada. The online course offers an overview on the social determinants of health and its impact on mental health\, the role of migration trajectories and highlights the specific needs of sub populations. \nThe course is designed to provide a uniquely interactive learning experience where service providers can consult with experts in the field\, share ideas and experiences with hundreds of peers from all over Canada\, and learn strategies to use on-the-job.
URL:https://langleylip.ca/event/registration-now-open-immigrant-and-refugee-mental-health-fall-course/
LOCATION:BC
END:VEVENT
BEGIN:VEVENT
DTSTART;TZID=UTC:20210927T100000
DTEND;TZID=UTC:20210927T110000
DTSTAMP:20260420T214010
CREATED:20210923T163807Z
LAST-MODIFIED:20210923T163851Z
UID:1543-1632736800-1632740400@langleylip.ca
SUMMARY:Canada's Private Sponsorship Program
DESCRIPTION:The BC Refugee Hub would like to invite you to join this webinar to learn about Canada’s private sponsorship program\, updates on Afghan nationals private sponsorship pathways\, the role of Sponsorship Agreement Holder’s (SAH’s) at the community level\, steps to take to become a private sponsor\, along with tools and trainings available about private sponsorship in Canada. \nHosted by:\n– Bahar Taheri\, Project Consultant\, BC Refugee Hub \nSpeakers:\n– Michelle Ndizeye\, BC Refugee Sponsorship Trainer\, Refugee Sponsorship Training Program (RSTP)\n– Iris Challoner\, Manager\, Refugee Sponsorship Program\, MOSAIC \nWe will have time for Q&A sessions with our speakers.
URL:https://langleylip.ca/event/canadas-private-sponsorship-program/
LOCATION:BC
END:VEVENT
BEGIN:VEVENT
DTSTART;TZID=UTC:20210928T090000
DTEND;TZID=UTC:20210928T130000
DTSTAMP:20260420T214010
CREATED:20210819T222918Z
LAST-MODIFIED:20210819T222918Z
UID:1461-1632819600-1632834000@langleylip.ca
SUMMARY:Hope in Action: Approaches to Career Development
DESCRIPTION:Are you an employment specialist or CCDP in the nonprofit sector? \nJoin DIVERSEcity’s Employment team for this special professional development opportunity. Hope-Action Theory and practice provides a framework for understanding and working within the challenging times we are in. Listen to Norm Amundson and Andrea Fruhling\, PCC in this two-part series\, and learn to combine the hope-action theory with the award-winning actively engaged approach (Active Engagement) to career development to implement career exploration and decision-making experiences that are memorable\, and provide clients strategies to incorporate hope-action within their journey. \nFees for training are $325 per participant and payable to DIVERSEcity upon registration.
URL:https://langleylip.ca/event/hope-in-action-approaches-to-career-development-2/
LOCATION:BC
END:VEVENT
BEGIN:VEVENT
DTSTART;TZID=UTC:20210928T100000
DTEND;TZID=UTC:20210928T140000
DTSTAMP:20260420T214010
CREATED:20210730T052416Z
LAST-MODIFIED:20210730T052416Z
UID:1420-1632823200-1632837600@langleylip.ca
SUMMARY:B2B Virtual Fair
DESCRIPTION:
URL:https://langleylip.ca/event/b2b-virtual-fair/
LOCATION:BC
END:VEVENT
BEGIN:VEVENT
DTSTART;TZID=UTC:20210929T130000
DTEND;TZID=UTC:20210929T143000
DTSTAMP:20260420T214010
CREATED:20210923T163507Z
LAST-MODIFIED:20210923T163855Z
UID:1542-1632920400-1632925800@langleylip.ca
SUMMARY:Afghan Refugee Resettlement
DESCRIPTION:You are invited to attend this webinar hosted by the BC Refugee Hub providing updates on Afghan refugee resettlement to Metro Vancouver. Speakers Kathy Sherrell and Jennifer York will provide details on the Resettlement Assistance Program (RAP)\, statistical updates on arrivals\, and more. \nSpeakers:\nKathy Sherrell – Director\, Settlement Services\, ISSofBC\nJennifer York – Division Manager\, Settlement Program\, ISSofBC
URL:https://langleylip.ca/event/afghan-refugee-resettlement/
LOCATION:BC
END:VEVENT
END:VCALENDAR