BEGIN:VCALENDAR
VERSION:2.0
PRODID:-//Langley Local Immigration Partnership - ECPv6.14.0//NONSGML v1.0//EN
CALSCALE:GREGORIAN
METHOD:PUBLISH
X-WR-CALNAME:Langley Local Immigration Partnership
X-ORIGINAL-URL:https://langleylip.ca
X-WR-CALDESC:Events for Langley Local Immigration Partnership
REFRESH-INTERVAL;VALUE=DURATION:PT1H
X-Robots-Tag:noindex
X-PUBLISHED-TTL:PT1H
BEGIN:VTIMEZONE
TZID:UTC
BEGIN:STANDARD
TZOFFSETFROM:+0000
TZOFFSETTO:+0000
TZNAME:UTC
DTSTART:20240101T000000
END:STANDARD
END:VTIMEZONE
BEGIN:VEVENT
DTSTART;VALUE=DATE:20240711
DTEND;VALUE=DATE:20240901
DTSTAMP:20260422T101629
CREATED:20240801T044511Z
LAST-MODIFIED:20240801T044511Z
UID:8803-1720656000-1725148799@langleylip.ca
SUMMARY:LCACA Summer Camp
DESCRIPTION:The LCACA Summer Camp has officially started recruiting students for 2024! Running our summer camp in the heart of Langley AKA Vancouver’s hidden garden for the 5th year\, we’ve accumulated over 200 students over the years. \nWe are a small-group\, DIY\, bilingual\, and affordable summer camp with abundant indoor and outdoor activities including arts\, sports\, and reading\, PLUS our students will perform for our lovely parents at the end of the summer using the knowledge they’ve gained. Our teachers are all professionals in their own field. \nOur first class will begin on July 11 and our last class is set on August 31. Enjoy a 5% discount if you register before July 1. Spots are limited so act fast. \nDon’t hesitate to contact us for more information if you live around Langley and want your kids to learn some interesting things and get out the house this summer. Otherwise\, please share with your network! Thank you. ✌️ \nEmail: lanyilove@gmail.com\nOrganizer’s phone number: 778-808-8806
URL:https://langleylip.ca/event/lcaca-summer-camp/
LOCATION:BC
END:VEVENT
BEGIN:VEVENT
DTSTART;TZID=UTC:20240720T080000
DTEND;TZID=UTC:20240721T220000
DTSTAMP:20260422T101629
CREATED:20240720T050925Z
LAST-MODIFIED:20240720T050925Z
UID:8569-1721462400-1721599200@langleylip.ca
SUMMARY:Surrey Fusion Fest
DESCRIPTION:The ultimate celebration of food\, music and culture. Experience this year’s theme\, “Landmarks of the World\,” in the heart of Surrey. \nSurrey Fusion Festival is proud to support local Indigenous and cultural groups in the programming and planning of the event. \nThe City of Surrey is situated on the traditional\, ancestral\, and unceded territories of the Salish Peoples\, including the q̓ic̓əy̓ (Katzie)\, q̓ʷɑ:n̓ƛ̓ən̓ (Kwantlen)\, and Semiahma (Semiahmoo) land-based nations. \nSurrey Fusion Festival is the ultimate celebration of food\, music and culture. Festival organizers are proud to work with communities representing different ethnicities and cultures from around the world\, and honour the traditions and history that they share with attendees. Since the festival’s inception in 2008\, the event has grown to showcase over 40 different cultures\, with pavilions offering international foods\, displays of artifacts and textiles\, and multiple stages featuring musical and dance performances. Surrey Fusion Festival is proud to host pavilions from over 40 cultures from across the globe\, including from North and South America\, Europe\, Africa\, Asia and Oceania.
URL:https://langleylip.ca/event/surrey-fusion-fest/
LOCATION:Holland Park\, 13428 Old Yale Rd\, Surrey\, BC\, Canada
END:VEVENT
BEGIN:VEVENT
DTSTART;TZID=UTC:20240721T140000
DTEND;TZID=UTC:20240721T160000
DTSTAMP:20260422T101629
CREATED:20240720T051430Z
LAST-MODIFIED:20240720T051430Z
UID:8574-1721570400-1721577600@langleylip.ca
SUMMARY:FVRL Sunday Free Play!
DESCRIPTION:Join us every Sunday this summer for an afternoon of fun! Enjoy an assortment of games and toys\, perfect for kids to play with  independently or for friends and families wanting to try something new. Drop in fun for all ages. Games and toys provided. Children under the age of ten must be accompanied by an adult.
URL:https://langleylip.ca/event/fvrl-sunday-free-play/
LOCATION:Muriel Arnason Library – Willowbrook\, 130 20338 65 Avenue\, Langley\, BC\, Canada
END:VEVENT
END:VCALENDAR