BEGIN:VCALENDAR
VERSION:2.0
PRODID:-//Langley Local Immigration Partnership - ECPv6.14.0//NONSGML v1.0//EN
CALSCALE:GREGORIAN
METHOD:PUBLISH
X-WR-CALNAME:Langley Local Immigration Partnership
X-ORIGINAL-URL:https://langleylip.ca
X-WR-CALDESC:Events for Langley Local Immigration Partnership
REFRESH-INTERVAL;VALUE=DURATION:PT1H
X-Robots-Tag:noindex
X-PUBLISHED-TTL:PT1H
BEGIN:VTIMEZONE
TZID:UTC
BEGIN:STANDARD
TZOFFSETFROM:+0000
TZOFFSETTO:+0000
TZNAME:UTC
DTSTART:20230101T000000
END:STANDARD
END:VTIMEZONE
BEGIN:VEVENT
DTSTART;TZID=UTC:20230118T180000
DTEND;TZID=UTC:20230118T190000
DTSTAMP:20260421T213618
CREATED:20221209T050709Z
LAST-MODIFIED:20221209T050709Z
UID:3323-1674064800-1674068400@langleylip.ca
SUMMARY:Canada Child Benefit Application Info Session
DESCRIPTION:Are you a work-permit or study-permit holder and have questions about child care benefits? Learn about what it is\, who can apply\, how to apply\, and how much you can receive at this workshop. Q&A session included. \n  \n 
URL:https://langleylip.ca/event/canada-child-benefit-application-info-session/
LOCATION:BC
END:VEVENT
END:VCALENDAR