BEGIN:VCALENDAR
VERSION:2.0
PRODID:-//Langley Local Immigration Partnership - ECPv6.14.0//NONSGML v1.0//EN
CALSCALE:GREGORIAN
METHOD:PUBLISH
X-ORIGINAL-URL:https://langleylip.ca
X-WR-CALDESC:Events for Langley Local Immigration Partnership
REFRESH-INTERVAL;VALUE=DURATION:PT1H
X-Robots-Tag:noindex
X-PUBLISHED-TTL:PT1H
BEGIN:VTIMEZONE
TZID:UTC
BEGIN:STANDARD
TZOFFSETFROM:+0000
TZOFFSETTO:+0000
TZNAME:UTC
DTSTART:20220101T000000
END:STANDARD
END:VTIMEZONE
BEGIN:VEVENT
DTSTART;TZID=UTC:20221218T020000
DTEND;TZID=UTC:20221218T150000
DTSTAMP:20260421T200848
CREATED:20221114T223236Z
LAST-MODIFIED:20221128T195841Z
UID:3159-1671328800-1671375600@langleylip.ca
SUMMARY:Titles and Tea Book Club
DESCRIPTION:Join to discuss this month’s chosen work of fiction in a casual and welcome setting. Book sets are provided by the library. If you would like to join the book club\, please talk to our staff.
URL:https://langleylip.ca/event/titles-and-tea-book-club/
LOCATION:BC
END:VEVENT
BEGIN:VEVENT
DTSTART;TZID=UTC:20221218T140000
DTEND;TZID=UTC:20221218T150000
DTSTAMP:20260421T200848
CREATED:20221025T183011Z
LAST-MODIFIED:20221128T195752Z
UID:3039-1671372000-1671375600@langleylip.ca
SUMMARY:Conversation Circle
DESCRIPTION:
URL:https://langleylip.ca/event/conversation-circle/
LOCATION:BC
END:VEVENT
END:VCALENDAR