BEGIN:VCALENDAR
VERSION:2.0
PRODID:-//Langley Local Immigration Partnership - ECPv6.14.0//NONSGML v1.0//EN
CALSCALE:GREGORIAN
METHOD:PUBLISH
X-WR-CALNAME:Langley Local Immigration Partnership
X-ORIGINAL-URL:https://langleylip.ca
X-WR-CALDESC:Events for Langley Local Immigration Partnership
REFRESH-INTERVAL;VALUE=DURATION:PT1H
X-Robots-Tag:noindex
X-PUBLISHED-TTL:PT1H
BEGIN:VTIMEZONE
TZID:UTC
BEGIN:STANDARD
TZOFFSETFROM:+0000
TZOFFSETTO:+0000
TZNAME:UTC
DTSTART:20220101T000000
END:STANDARD
END:VTIMEZONE
BEGIN:VEVENT
DTSTART;TZID=UTC:20221126T080000
DTEND;TZID=UTC:20221126T170000
DTSTAMP:20260421T185846
CREATED:20221104T181227Z
LAST-MODIFIED:20221104T181227Z
UID:3103-1669449600-1669482000@langleylip.ca
SUMMARY:MOSAIC Immigrant Professionals Conference
DESCRIPTION:The last few years have probably set you back in your employment goals or ambitions. If you have held back on a skill or have been tentative in your decisions\, now is the time to unleash your professional potential! \nListen to motivational speakers\, participate in discussions\, learn from experiences\, and create a new improved you! \nNow on its 12th year\, the Immigrant Professionals Conference is a one-day event that brings together like-minded motivators and individuals. This year’s theme will challenge you to push yourself in the creative process while drawing inspiration from thought leaders.
URL:https://langleylip.ca/event/mosaic-immigrant-professionals-conference/
LOCATION:BC
END:VEVENT
END:VCALENDAR