BEGIN:VCALENDAR
VERSION:2.0
PRODID:-//Langley Local Immigration Partnership - ECPv6.14.0//NONSGML v1.0//EN
CALSCALE:GREGORIAN
METHOD:PUBLISH
X-ORIGINAL-URL:https://langleylip.ca
X-WR-CALDESC:Events for Langley Local Immigration Partnership
REFRESH-INTERVAL;VALUE=DURATION:PT1H
X-Robots-Tag:noindex
X-PUBLISHED-TTL:PT1H
BEGIN:VTIMEZONE
TZID:UTC
BEGIN:STANDARD
TZOFFSETFROM:+0000
TZOFFSETTO:+0000
TZNAME:UTC
DTSTART:20220101T000000
END:STANDARD
END:VTIMEZONE
BEGIN:VEVENT
DTSTART;TZID=UTC:20221123T100000
DTEND;TZID=UTC:20221123T110000
DTSTAMP:20260421T185954
CREATED:20221005T171133Z
LAST-MODIFIED:20221005T171152Z
UID:2943-1669197600-1669201200@langleylip.ca
SUMMARY:Career Paths Info Sessions
DESCRIPTION:
URL:https://langleylip.ca/event/career-paths-info-sessions/
LOCATION:BC
END:VEVENT
BEGIN:VEVENT
DTSTART;TZID=UTC:20221123T100000
DTEND;TZID=UTC:20221123T130000
DTSTAMP:20260421T185954
CREATED:20221117T183703Z
LAST-MODIFIED:20221117T183804Z
UID:3176-1669197600-1669208400@langleylip.ca
SUMMARY:Hiring Fair
DESCRIPTION:Come and meet employers hiring for Customer Service related jobs \n \nEmail info-langley-willowbrook@workbc.ca to register.
URL:https://langleylip.ca/event/hiring-fair/
LOCATION:BC
END:VEVENT
END:VCALENDAR