BEGIN:VCALENDAR
VERSION:2.0
PRODID:-//Langley Local Immigration Partnership - ECPv6.14.0//NONSGML v1.0//EN
CALSCALE:GREGORIAN
METHOD:PUBLISH
X-WR-CALNAME:Langley Local Immigration Partnership
X-ORIGINAL-URL:https://langleylip.ca
X-WR-CALDESC:Events for Langley Local Immigration Partnership
REFRESH-INTERVAL;VALUE=DURATION:PT1H
X-Robots-Tag:noindex
X-PUBLISHED-TTL:PT1H
BEGIN:VTIMEZONE
TZID:UTC
BEGIN:STANDARD
TZOFFSETFROM:+0000
TZOFFSETTO:+0000
TZNAME:UTC
DTSTART:20220101T000000
END:STANDARD
END:VTIMEZONE
BEGIN:VEVENT
DTSTART;TZID=UTC:20221117T100000
DTEND;TZID=UTC:20221117T130000
DTSTAMP:20260421T185745
CREATED:20221103T192351Z
LAST-MODIFIED:20221103T192351Z
UID:3099-1668679200-1668690000@langleylip.ca
SUMMARY:Who's Hiring? UPS
DESCRIPTION:Are you a job seeker in Metro Vancouver? Looking for work? Don’t miss this free in-person job fair with UPS!
URL:https://langleylip.ca/event/whos-hiring-ups/
LOCATION:BC
END:VEVENT
BEGIN:VEVENT
DTSTART;TZID=UTC:20221117T173000
DTEND;TZID=UTC:20221117T193000
DTSTAMP:20260421T185745
CREATED:20221111T175507Z
LAST-MODIFIED:20221111T175507Z
UID:3140-1668706200-1668713400@langleylip.ca
SUMMARY:Job Fair
DESCRIPTION:Exclusive Job Opportunities with Dozens of Jobs Available! Everyone Welcome! \nRegister here.
URL:https://langleylip.ca/event/job-fair/
LOCATION:BC
END:VEVENT
END:VCALENDAR