BEGIN:VCALENDAR
VERSION:2.0
PRODID:-//Langley Local Immigration Partnership - ECPv6.14.0//NONSGML v1.0//EN
CALSCALE:GREGORIAN
METHOD:PUBLISH
X-WR-CALNAME:Langley Local Immigration Partnership
X-ORIGINAL-URL:https://langleylip.ca
X-WR-CALDESC:Events for Langley Local Immigration Partnership
REFRESH-INTERVAL;VALUE=DURATION:PT1H
X-Robots-Tag:noindex
X-PUBLISHED-TTL:PT1H
BEGIN:VTIMEZONE
TZID:UTC
BEGIN:STANDARD
TZOFFSETFROM:+0000
TZOFFSETTO:+0000
TZNAME:UTC
DTSTART:20220101T000000
END:STANDARD
END:VTIMEZONE
BEGIN:VEVENT
DTSTART;TZID=UTC:20221116T100000
DTEND;TZID=UTC:20221116T160000
DTSTAMP:20260421T200559
CREATED:20221103T192202Z
LAST-MODIFIED:20221103T192202Z
UID:3095-1668592800-1668614400@langleylip.ca
SUMMARY:Who's Hiring? BCIB
DESCRIPTION:Looking for a career in the skilled trades? Don’t miss this free in-person job fair with BCIB!
URL:https://langleylip.ca/event/whos-hiring-bcib/
LOCATION:BC
END:VEVENT
END:VCALENDAR