BEGIN:VCALENDAR
VERSION:2.0
PRODID:-//Langley Local Immigration Partnership - ECPv6.14.0//NONSGML v1.0//EN
CALSCALE:GREGORIAN
METHOD:PUBLISH
X-ORIGINAL-URL:https://langleylip.ca
X-WR-CALDESC:Events for Langley Local Immigration Partnership
REFRESH-INTERVAL;VALUE=DURATION:PT1H
X-Robots-Tag:noindex
X-PUBLISHED-TTL:PT1H
BEGIN:VTIMEZONE
TZID:UTC
BEGIN:STANDARD
TZOFFSETFROM:+0000
TZOFFSETTO:+0000
TZNAME:UTC
DTSTART:20220101T000000
END:STANDARD
END:VTIMEZONE
BEGIN:VEVENT
DTSTART;TZID=UTC:20221115T130000
DTEND;TZID=UTC:20221115T160000
DTSTAMP:20260421T185952
CREATED:20221103T191720Z
LAST-MODIFIED:20221103T191720Z
UID:3092-1668517200-1668528000@langleylip.ca
SUMMARY:Surrey Career Fair
DESCRIPTION:Connect with Hiring Companies\, Government\, Employment Services\, Colleges\, and Universities. The Surrey Career Fair welcomes specialists in employment\, career development\, training\, and education across British Columbia.
URL:https://langleylip.ca/event/surrey-career-fair/
LOCATION:BC
END:VEVENT
END:VCALENDAR