BEGIN:VCALENDAR
VERSION:2.0
PRODID:-//Langley Local Immigration Partnership - ECPv6.14.0//NONSGML v1.0//EN
CALSCALE:GREGORIAN
METHOD:PUBLISH
X-ORIGINAL-URL:https://langleylip.ca
X-WR-CALDESC:Events for Langley Local Immigration Partnership
REFRESH-INTERVAL;VALUE=DURATION:PT1H
X-Robots-Tag:noindex
X-PUBLISHED-TTL:PT1H
BEGIN:VTIMEZONE
TZID:UTC
BEGIN:STANDARD
TZOFFSETFROM:+0000
TZOFFSETTO:+0000
TZNAME:UTC
DTSTART:20220101T000000
END:STANDARD
END:VTIMEZONE
BEGIN:VEVENT
DTSTART;TZID=UTC:20220927T100000
DTEND;TZID=UTC:20220927T110000
DTSTAMP:20260421T161330
CREATED:20220815T234007Z
LAST-MODIFIED:20220913T014634Z
UID:2612-1664272800-1664276400@langleylip.ca
SUMMARY:Cautious Consumerism: Identity Theft and Fraud
DESCRIPTION:What is identity theft/fraud? Do you want to protect your personal information/money? \nHow do I know and what should I do if I am a victim of identity theft/fraud? \nWhat can I do to avoid fraud? \nIdentity theft is a serious crime where your personal information-anything from your name\, driver’s license\, or Social Insurance Number-has been used by a stranger who pretends to be yourself to commit the crime. \nIdentity theft/fraud is a major problem\, and it happens more often than you might think. There are several simple things you can do to reduce your chances of becoming a victim. \nFor more information\, contact Yoona at (604) 534 -7921 ext. 1204 or yahn@lcss.com \nThe workshop is open for Permanent Residents (PR) of Canada.
URL:https://langleylip.ca/event/cautious-consumerism-identity-theft-and-fraud/
LOCATION:BC
END:VEVENT
END:VCALENDAR