BEGIN:VCALENDAR
VERSION:2.0
PRODID:-//Langley Local Immigration Partnership - ECPv6.14.0//NONSGML v1.0//EN
CALSCALE:GREGORIAN
METHOD:PUBLISH
X-ORIGINAL-URL:https://langleylip.ca
X-WR-CALDESC:Events for Langley Local Immigration Partnership
REFRESH-INTERVAL;VALUE=DURATION:PT1H
X-Robots-Tag:noindex
X-PUBLISHED-TTL:PT1H
BEGIN:VTIMEZONE
TZID:UTC
BEGIN:STANDARD
TZOFFSETFROM:+0000
TZOFFSETTO:+0000
TZNAME:UTC
DTSTART:20220101T000000
END:STANDARD
END:VTIMEZONE
BEGIN:VEVENT
DTSTART;VALUE=DATE:20220314
DTEND;VALUE=DATE:20220319
DTSTAMP:20260421T075505
CREATED:20220311T171158Z
LAST-MODIFIED:20220311T171254Z
UID:2047-1647216000-1647647999@langleylip.ca
SUMMARY:Conversations on Anti-Racism
DESCRIPTION:Four Local Immigration Partnerships have come together to host a series of conversations to inspire meaningful dialogue on anti-racism. Each event will feature a guest speaker and time for questions and answers overseen by a moderator. These events are free and open to all community members. \nTime \nMar 14\, 2022 09:30 AM\nMar 15\, 2022 09:30 AM\nMar 16\, 2022 11:00 AM\nMar 17\, 2022 09:30 AM\nMar 18\, 2022 09:30 AM
URL:https://langleylip.ca/event/conversations-on-anti-racism/
LOCATION:BC
END:VEVENT
BEGIN:VEVENT
DTSTART;TZID=UTC:20220315T190000
DTEND;TZID=UTC:20220315T190000
DTSTAMP:20260421T075505
CREATED:20220304T214806Z
LAST-MODIFIED:20220304T214815Z
UID:2034-1647370800-1647370800@langleylip.ca
SUMMARY:How to Start your Career with the City of Surrey
DESCRIPTION:
URL:https://langleylip.ca/event/how-to-start-your-career-with-the-city-of-surrey/
LOCATION:BC
END:VEVENT
END:VCALENDAR