BEGIN:VCALENDAR
VERSION:2.0
PRODID:-//Langley Local Immigration Partnership - ECPv6.14.0//NONSGML v1.0//EN
CALSCALE:GREGORIAN
METHOD:PUBLISH
X-WR-CALNAME:Langley Local Immigration Partnership
X-ORIGINAL-URL:https://langleylip.ca
X-WR-CALDESC:Events for Langley Local Immigration Partnership
REFRESH-INTERVAL;VALUE=DURATION:PT1H
X-Robots-Tag:noindex
X-PUBLISHED-TTL:PT1H
BEGIN:VTIMEZONE
TZID:UTC
BEGIN:STANDARD
TZOFFSETFROM:+0000
TZOFFSETTO:+0000
TZNAME:UTC
DTSTART:20210101T000000
END:STANDARD
END:VTIMEZONE
BEGIN:VEVENT
DTSTART;TZID=UTC:20211214T100000
DTEND;TZID=UTC:20211214T170000
DTSTAMP:20260421T030510
CREATED:20211204T010849Z
LAST-MODIFIED:20211204T010849Z
UID:1749-1639476000-1639501200@langleylip.ca
SUMMARY:How to Start a Career in Banking?
DESCRIPTION:You will learn: \n• Bank jobs qualification; \n• What banking careers are there; \n• Career development opportunities\, and challenges; \n• How to get a job in bank; \n• Brief info about RBC and its workplace culture; \n• Current job openings\, overview on benefits\, how to apply; \n• Hiring steps.
URL:https://langleylip.ca/event/how-to-start-a-career-in-banking/
LOCATION:BC
END:VEVENT
END:VCALENDAR