BEGIN:VCALENDAR
VERSION:2.0
PRODID:-//Langley Local Immigration Partnership - ECPv6.14.0//NONSGML v1.0//EN
CALSCALE:GREGORIAN
METHOD:PUBLISH
X-WR-CALNAME:Langley Local Immigration Partnership
X-ORIGINAL-URL:https://langleylip.ca
X-WR-CALDESC:Events for Langley Local Immigration Partnership
REFRESH-INTERVAL;VALUE=DURATION:PT1H
X-Robots-Tag:noindex
X-PUBLISHED-TTL:PT1H
BEGIN:VTIMEZONE
TZID:UTC
BEGIN:STANDARD
TZOFFSETFROM:+0000
TZOFFSETTO:+0000
TZNAME:UTC
DTSTART:20210101T000000
END:STANDARD
END:VTIMEZONE
BEGIN:VEVENT
DTSTART;VALUE=DATE:20211126
DTEND;VALUE=DATE:20211210
DTSTAMP:20260421T045348
CREATED:20211124T201926Z
LAST-MODIFIED:20211124T202101Z
UID:1714-1637884800-1639094399@langleylip.ca
SUMMARY:Holiday Book Drive
DESCRIPTION:
URL:https://langleylip.ca/event/holiday-book-drive/
LOCATION:BC
END:VEVENT
BEGIN:VEVENT
DTSTART;TZID=UTC:20211208T103000
DTEND;TZID=UTC:20211208T170000
DTSTAMP:20260421T045348
CREATED:20211204T005731Z
LAST-MODIFIED:20211204T005922Z
UID:1743-1638959400-1638982800@langleylip.ca
SUMMARY:Labour Market Information Workshop by Statistics Canada
DESCRIPTION:About this event\nYou will explore: \nWhat are the average wages for different occupations;\nWhat is the average hourly rate for recent newcomers who have landed in Canada;\nWhat does the post-pandemic economic recovery job market look like.\nAbout Our Organization: S.U.C.C.E.S.S. FCR Loan Project \nAs part of the government of Canada’s response to job creation and economic growth\, the Foreign Credential Recognition (FCR) Loan Project\, administered by S.U.C.C.E.S.S.\, was introduced to the public on February 22\, 2012. For many Internationally Trained Professionals (ITPs)\, the cost of licensing exams\, training and skills upgrading can present a significant barrier to credential recognition. Using a client-centered approach\, the FCR Loan Project provides financial assistance to ITP’s to lessen some of these burdens\, making it easier for ITPs to find jobs that best suit their professional skills and experiences. \nWorkshop Eligibility: Internationally-trained Professionals planning on having their credentials recognized in Canada.
URL:https://langleylip.ca/event/labour-market-information-workshop-by-statistics-canada/
LOCATION:BC
END:VEVENT
BEGIN:VEVENT
DTSTART;TZID=UTC:20211208T180000
DTEND;TZID=UTC:20211208T203000
DTSTAMP:20260421T045348
CREATED:20210928T205330Z
LAST-MODIFIED:20210928T205330Z
UID:1566-1638986400-1638995400@langleylip.ca
SUMMARY:Past and Present: A Conversation about Race in BC - Human Rights\, Systemic Racism & Discrimination
DESCRIPTION:The fourth session in our speaker series will focus on human rights and systemic discrimination under B.C.’s Human Rights Code. You will hear from a representative from the Office of the Human Rights Commissioner who will discuss Human Rights\, Systemic Racism and Discrimination under the B.C.’s Human Rights Code\, as well as hear about the work of the Office. \nThere will be time for questions from the audience. \nWhen registering for this event\, please specify if you will be joining us in person or via Zoom. \nThe Library will share an invitation to the Zoom meeting via email 24 hours in advance of the session.\nPlease contact the Library if you have not received an email.​\nWe may be unable to email invitations to the Zoom meeting if you register less than 60 minutes before the start of the program.\nOther events in this speaker series include: \nOct 6 – Indigenous Peoples\nOct 27 – Early Immigrants\nNov 17 – Black History\nJan 12 – Community Conversations\nTo learn more about this program\, please contact Ann at ajohannes@coqlibrary.ca
URL:https://langleylip.ca/event/past-and-present-a-conversation-about-race-in-bc-human-rights-systemic-racism-discrimination/
LOCATION:BC
END:VEVENT
END:VCALENDAR