BEGIN:VCALENDAR
VERSION:2.0
PRODID:-//Langley Local Immigration Partnership - ECPv6.14.0//NONSGML v1.0//EN
CALSCALE:GREGORIAN
METHOD:PUBLISH
X-ORIGINAL-URL:https://langleylip.ca
X-WR-CALDESC:Events for Langley Local Immigration Partnership
REFRESH-INTERVAL;VALUE=DURATION:PT1H
X-Robots-Tag:noindex
X-PUBLISHED-TTL:PT1H
BEGIN:VTIMEZONE
TZID:UTC
BEGIN:STANDARD
TZOFFSETFROM:+0000
TZOFFSETTO:+0000
TZNAME:UTC
DTSTART:20210101T000000
END:STANDARD
END:VTIMEZONE
BEGIN:VEVENT
DTSTART;TZID=UTC:20211109T140000
DTEND;TZID=UTC:20211109T153000
DTSTAMP:20260421T014525
CREATED:20211029T201833Z
LAST-MODIFIED:20211029T201833Z
UID:1636-1636466400-1636471800@langleylip.ca
SUMMARY:Diverse Leaders Tri-Cities - Community Consultation for Organizations
DESCRIPTION:The Diverse Leaders Tri-Cities Project aims to support organizations through all the stages of development\, implementation and progress measurement of inclusion plans tailored to meet organization’s individual needs. \nThe Community Consultation for Organizations\, on November 9th\, will be an opportunity for organizations to share about their Equity\, Diversity and Inclusion (EDI) needs. We want to hear what supports and resources your organization will require to advance EDI commitments and ensure that your inclusion plan is successful.
URL:https://langleylip.ca/event/diverse-leaders-tri-cities-community-consultation-for-organizations/
LOCATION:BC
END:VEVENT
END:VCALENDAR