BEGIN:VCALENDAR
VERSION:2.0
PRODID:-//Langley Local Immigration Partnership - ECPv6.14.0//NONSGML v1.0//EN
CALSCALE:GREGORIAN
METHOD:PUBLISH
X-ORIGINAL-URL:https://langleylip.ca
X-WR-CALDESC:Events for Langley Local Immigration Partnership
REFRESH-INTERVAL;VALUE=DURATION:PT1H
X-Robots-Tag:noindex
X-PUBLISHED-TTL:PT1H
BEGIN:VTIMEZONE
TZID:UTC
BEGIN:STANDARD
TZOFFSETFROM:+0000
TZOFFSETTO:+0000
TZNAME:UTC
DTSTART:20210101T000000
END:STANDARD
END:VTIMEZONE
BEGIN:VEVENT
DTSTART;TZID=UTC:20210927T080000
DTEND;TZID=UTC:20211108T170000
DTSTAMP:20260421T001125
CREATED:20210902T155329Z
LAST-MODIFIED:20210902T155559Z
UID:1484-1632729600-1636390800@langleylip.ca
SUMMARY:Registration now open! Immigrant and Refugee Mental Health Fall Course
DESCRIPTION:The Immigrant and Refugee Mental Health Course\, funded by Immigration\, Refugees and Citizenship Canada (IRCC)\, offers evidence-based information\, tools and resources for service providers to provide mental health care and support to both immigrants and refugees arriving in Canada. The online course offers an overview on the social determinants of health and its impact on mental health\, the role of migration trajectories and highlights the specific needs of sub populations. \nThe course is designed to provide a uniquely interactive learning experience where service providers can consult with experts in the field\, share ideas and experiences with hundreds of peers from all over Canada\, and learn strategies to use on-the-job.
URL:https://langleylip.ca/event/registration-now-open-immigrant-and-refugee-mental-health-fall-course/
LOCATION:BC
END:VEVENT
BEGIN:VEVENT
DTSTART;TZID=UTC:20210927T100000
DTEND;TZID=UTC:20210927T110000
DTSTAMP:20260421T001125
CREATED:20210923T163807Z
LAST-MODIFIED:20210923T163851Z
UID:1543-1632736800-1632740400@langleylip.ca
SUMMARY:Canada's Private Sponsorship Program
DESCRIPTION:The BC Refugee Hub would like to invite you to join this webinar to learn about Canada’s private sponsorship program\, updates on Afghan nationals private sponsorship pathways\, the role of Sponsorship Agreement Holder’s (SAH’s) at the community level\, steps to take to become a private sponsor\, along with tools and trainings available about private sponsorship in Canada. \nHosted by:\n– Bahar Taheri\, Project Consultant\, BC Refugee Hub \nSpeakers:\n– Michelle Ndizeye\, BC Refugee Sponsorship Trainer\, Refugee Sponsorship Training Program (RSTP)\n– Iris Challoner\, Manager\, Refugee Sponsorship Program\, MOSAIC \nWe will have time for Q&A sessions with our speakers.
URL:https://langleylip.ca/event/canadas-private-sponsorship-program/
LOCATION:BC
END:VEVENT
END:VCALENDAR