BEGIN:VCALENDAR
VERSION:2.0
PRODID:-//Langley Local Immigration Partnership - ECPv6.14.0//NONSGML v1.0//EN
CALSCALE:GREGORIAN
METHOD:PUBLISH
X-WR-CALNAME:Langley Local Immigration Partnership
X-ORIGINAL-URL:https://langleylip.ca
X-WR-CALDESC:Events for Langley Local Immigration Partnership
REFRESH-INTERVAL;VALUE=DURATION:PT1H
X-Robots-Tag:noindex
X-PUBLISHED-TTL:PT1H
BEGIN:VTIMEZONE
TZID:UTC
BEGIN:STANDARD
TZOFFSETFROM:+0000
TZOFFSETTO:+0000
TZNAME:UTC
DTSTART:20210101T000000
END:STANDARD
END:VTIMEZONE
BEGIN:VEVENT
DTSTART;TZID=UTC:20210914T133000
DTEND;TZID=UTC:20210914T150000
DTSTAMP:20260420T225900
CREATED:20210730T052540Z
LAST-MODIFIED:20210730T052540Z
UID:1424-1631626200-1631631600@langleylip.ca
SUMMARY:Community Meetings
DESCRIPTION:
URL:https://langleylip.ca/event/community-meetings/
LOCATION:BC
END:VEVENT
END:VCALENDAR