BEGIN:VCALENDAR
VERSION:2.0
PRODID:-//Langley Local Immigration Partnership - ECPv6.14.0//NONSGML v1.0//EN
CALSCALE:GREGORIAN
METHOD:PUBLISH
X-ORIGINAL-URL:https://langleylip.ca
X-WR-CALDESC:Events for Langley Local Immigration Partnership
REFRESH-INTERVAL;VALUE=DURATION:PT1H
X-Robots-Tag:noindex
X-PUBLISHED-TTL:PT1H
BEGIN:VTIMEZONE
TZID:UTC
BEGIN:STANDARD
TZOFFSETFROM:+0000
TZOFFSETTO:+0000
TZNAME:UTC
DTSTART:20210101T000000
END:STANDARD
END:VTIMEZONE
BEGIN:VEVENT
DTSTART;TZID=UTC:20210630T080000
DTEND;TZID=UTC:20210630T170000
DTSTAMP:20260420T202542
CREATED:20210521T182121Z
LAST-MODIFIED:20210607T174129Z
UID:1215-1625040000-1625072400@langleylip.ca
SUMMARY:Can You Create and Tell My Story?
DESCRIPTION:Are you living in the Langleys? Do you want to share your perspective and experience and create art that shows the changing faces in your community. You’re invited to share your storytelling project to explore differences and similarities and create a work of art. \nRegister now
URL:https://langleylip.ca/event/can-you-create-and-tell-my-story/
LOCATION:BC
END:VEVENT
BEGIN:VEVENT
DTSTART;TZID=UTC:20210630T150000
DTEND;TZID=UTC:20210630T190000
DTSTAMP:20260420T202542
CREATED:20210628T230116Z
LAST-MODIFIED:20210628T230203Z
UID:1331-1625065200-1625079600@langleylip.ca
SUMMARY:New Directions Vaccine Clinic
DESCRIPTION:To book an appointment\, call: 604-530-0535\nFamilies welcome\, ages 12+\nFirst doses prioritized \nPDF Poster: New Directions_June 30
URL:https://langleylip.ca/event/new-directions-vaccine-clinic/
LOCATION:BC
END:VEVENT
END:VCALENDAR