BEGIN:VCALENDAR
VERSION:2.0
PRODID:-//Langley Local Immigration Partnership - ECPv6.14.0//NONSGML v1.0//EN
CALSCALE:GREGORIAN
METHOD:PUBLISH
X-ORIGINAL-URL:https://langleylip.ca
X-WR-CALDESC:Events for Langley Local Immigration Partnership
REFRESH-INTERVAL;VALUE=DURATION:PT1H
X-Robots-Tag:noindex
X-PUBLISHED-TTL:PT1H
BEGIN:VTIMEZONE
TZID:UTC
BEGIN:STANDARD
TZOFFSETFROM:+0000
TZOFFSETTO:+0000
TZNAME:UTC
DTSTART:20210101T000000
END:STANDARD
END:VTIMEZONE
BEGIN:VEVENT
DTSTART;TZID=UTC:20210623T173000
DTEND;TZID=UTC:20210623T190000
DTSTAMP:20260420T213623
CREATED:20210618T180229Z
LAST-MODIFIED:20210618T180236Z
UID:1301-1624469400-1624474800@langleylip.ca
SUMMARY:Active Witnessing (Bystander Webinar)
DESCRIPTION:Have you ever witnessed an incident of racism or hate and did not know what to do?\nLearn tools to shift from being a passive witness to an active witness.\nASL Interpretation available
URL:https://langleylip.ca/event/active-witnessing-bystander-webinar/
LOCATION:BC
END:VEVENT
END:VCALENDAR