BEGIN:VCALENDAR
VERSION:2.0
PRODID:-//Langley Local Immigration Partnership - ECPv6.14.0//NONSGML v1.0//EN
CALSCALE:GREGORIAN
METHOD:PUBLISH
X-WR-CALNAME:Langley Local Immigration Partnership
X-ORIGINAL-URL:https://langleylip.ca
X-WR-CALDESC:Events for Langley Local Immigration Partnership
REFRESH-INTERVAL;VALUE=DURATION:PT1H
X-Robots-Tag:noindex
X-PUBLISHED-TTL:PT1H
BEGIN:VTIMEZONE
TZID:UTC
BEGIN:STANDARD
TZOFFSETFROM:+0000
TZOFFSETTO:+0000
TZNAME:UTC
DTSTART:20210101T000000
END:STANDARD
END:VTIMEZONE
BEGIN:VEVENT
DTSTART;VALUE=DATE:20210618
DTEND;VALUE=DATE:20210619
DTSTAMP:20260420T213928
CREATED:20210604T044852Z
LAST-MODIFIED:20210604T044852Z
UID:1271-1623974400-1624060799@langleylip.ca
SUMMARY:Nominations are now open for the 13th Annual Top 25 Canadian Immigrant Awards!
DESCRIPTION:Immigrants increasingly make up a large portion of our population and have made – and continue to make – immeasurable contributions to the Canadian economy\, Canadian society and Canada overall. These contributions are even more apparent in these challenging pandemic times\, as the country comes together in the face of adversity regardless of race\, culture or country of origin. The Top 25 Canadian Immigrant Awards will be given to 25 such immigrants\, who have made a difference to Canada. Whether they are a community advocate\, a successful entrepreneur\, a cultural icon or a volunteer\, nominate someone you believe should be recognized for their contribution. \nSubmit your nomination here!
URL:https://langleylip.ca/event/nominations-are-now-open-for-the-13th-annual-top-25-canadian-immigrant-awards/
LOCATION:BC
END:VEVENT
END:VCALENDAR