BEGIN:VCALENDAR
VERSION:2.0
PRODID:-//Langley Local Immigration Partnership - ECPv6.14.0//NONSGML v1.0//EN
CALSCALE:GREGORIAN
METHOD:PUBLISH
X-ORIGINAL-URL:https://langleylip.ca
X-WR-CALDESC:Events for Langley Local Immigration Partnership
REFRESH-INTERVAL;VALUE=DURATION:PT1H
X-Robots-Tag:noindex
X-PUBLISHED-TTL:PT1H
BEGIN:VTIMEZONE
TZID:UTC
BEGIN:STANDARD
TZOFFSETFROM:+0000
TZOFFSETTO:+0000
TZNAME:UTC
DTSTART:20210101T000000
END:STANDARD
END:VTIMEZONE
BEGIN:VEVENT
DTSTART;TZID=UTC:20210617T173000
DTEND;TZID=UTC:20210617T183000
DTSTAMP:20260420T214015
CREATED:20210607T172613Z
LAST-MODIFIED:20210607T172613Z
UID:1275-1623951000-1623954600@langleylip.ca
SUMMARY:World Refugee Day Celebration
DESCRIPTION:Register here
URL:https://langleylip.ca/event/world-refugee-day-celebration/
LOCATION:BC
END:VEVENT
END:VCALENDAR