BEGIN:VCALENDAR
VERSION:2.0
PRODID:-//Langley Local Immigration Partnership - ECPv6.14.0//NONSGML v1.0//EN
CALSCALE:GREGORIAN
METHOD:PUBLISH
X-WR-CALNAME:Langley Local Immigration Partnership
X-ORIGINAL-URL:https://langleylip.ca
X-WR-CALDESC:Events for Langley Local Immigration Partnership
REFRESH-INTERVAL;VALUE=DURATION:PT1H
X-Robots-Tag:noindex
X-PUBLISHED-TTL:PT1H
BEGIN:VTIMEZONE
TZID:UTC
BEGIN:STANDARD
TZOFFSETFROM:+0000
TZOFFSETTO:+0000
TZNAME:UTC
DTSTART:20210101T000000
END:STANDARD
END:VTIMEZONE
BEGIN:VEVENT
DTSTART;TZID=UTC:20210612T093000
DTEND;TZID=UTC:20210612T170000
DTSTAMP:20260420T213506
CREATED:20210604T044155Z
LAST-MODIFIED:20210604T044250Z
UID:1264-1623490200-1623517200@langleylip.ca
SUMMARY:Sister2Sister Leadership Summit: Putting women and girls at the centre of pandemic recovery
DESCRIPTION:The COVID-19 pandemic has had a profound impact on our societies and economies\, of which women\, especially women of colour\, Indigenous women\, and low-income women\, have been disproportionately impacted. \nAn upcoming virtual event on the “Impact of COVID-19 on Gender Equality” organized and hosted by the Sister2Sister program\, at  Newcomer Women’s Services\, Toronto\, spotlights this issue. \nThe free day-long virtual summit looks at the impacts of COVID-19 through an intersectional gendered lens in order to build a resilient world\, especially for the women and girls at the centre of recovery.  The Sister2Sister program supports the journey to recovery. The women in this program are learning about gender-based violence\, human rights\, which are women’s rights\, community activism\, the importance of mentorships and self-advocacy. \nWhen: June 12\, 9.30am-5pm\nHow to attend: Register online\nWho can attend: Everyone is welcome!\nAgenda & speakers: Information available here
URL:https://langleylip.ca/event/sister2sister-leadership-summit-putting-women-and-girls-at-the-centre-of-pandemic-recovery/
LOCATION:BC
END:VEVENT
END:VCALENDAR