BEGIN:VCALENDAR
VERSION:2.0
PRODID:-//Langley Local Immigration Partnership - ECPv6.14.0//NONSGML v1.0//EN
CALSCALE:GREGORIAN
METHOD:PUBLISH
X-WR-CALNAME:Langley Local Immigration Partnership
X-ORIGINAL-URL:https://langleylip.ca
X-WR-CALDESC:Events for Langley Local Immigration Partnership
REFRESH-INTERVAL;VALUE=DURATION:PT1H
X-Robots-Tag:noindex
X-PUBLISHED-TTL:PT1H
BEGIN:VTIMEZONE
TZID:UTC
BEGIN:STANDARD
TZOFFSETFROM:+0000
TZOFFSETTO:+0000
TZNAME:UTC
DTSTART:20210101T000000
END:STANDARD
END:VTIMEZONE
BEGIN:VEVENT
DTSTART;TZID=UTC:20210610T130000
DTEND;TZID=UTC:20210610T170000
DTSTAMP:20260420T213439
CREATED:20210604T044442Z
LAST-MODIFIED:20210604T044442Z
UID:1268-1623330000-1623344400@langleylip.ca
SUMMARY:Web Conference for Internationally Educated Nurses
DESCRIPTION:Canadian Immigrant and ACCES Employment proudly present a free one-stop web industry-specific virtual web conference series connecting newcomers with information and inspiration as you settle into your new home. \nJoin us June 10\, at 1:00pm (Eastern Standard Time) for this 90-minute event!  Register today! \nBroken into three parts\, this web conference for Internationally Educated Nurses and Health Professionals will feature speakers who are experts in their fields\, speaking to you from across Canada with the goal to help you succeed on your chosen path. \nRegister here: 
URL:https://langleylip.ca/event/web-conference-for-internationally-educated-nurses/
LOCATION:BC
END:VEVENT
END:VCALENDAR