BEGIN:VCALENDAR
VERSION:2.0
PRODID:-//Langley Local Immigration Partnership - ECPv6.14.0//NONSGML v1.0//EN
CALSCALE:GREGORIAN
METHOD:PUBLISH
X-ORIGINAL-URL:https://langleylip.ca
X-WR-CALDESC:Events for Langley Local Immigration Partnership
REFRESH-INTERVAL;VALUE=DURATION:PT1H
X-Robots-Tag:noindex
X-PUBLISHED-TTL:PT1H
BEGIN:VTIMEZONE
TZID:UTC
BEGIN:STANDARD
TZOFFSETFROM:+0000
TZOFFSETTO:+0000
TZNAME:UTC
DTSTART:20210101T000000
END:STANDARD
END:VTIMEZONE
BEGIN:VEVENT
DTSTART;TZID=UTC:20210505T080000
DTEND;TZID=UTC:20210505T170000
DTSTAMP:20260420T230758
CREATED:20210425T000427Z
LAST-MODIFIED:20210425T000450Z
UID:1150-1620201600-1620234000@langleylip.ca
SUMMARY:Mastering Online Growth Bootcamp
DESCRIPTION:The Township of Langley is working with Spring Activator to support your business to grow and thrive in the Township. Spring Activator has built an online learning platform for licensed businesses in the Township of Langley to access tools and resources for free. \nThe program includes training and education\, long-term resources and supportive networks through Spring Activator’s online Learning Management Program.  The program provides access to a wide variety of information and resources on topics including: \n\nBusiness efficiencies.\nDigital marketing.\nIncreasing customer loyalty.\nLeadership.\nPricing and sales.\nAnd much more.\n\nAll licensed Township of Langley businesses are eligible to access online learning opportunities for free until June 30\, 2021.
URL:https://langleylip.ca/event/mastering-online-growth-bootcamp/
LOCATION:BC
END:VEVENT
BEGIN:VEVENT
DTSTART;TZID=UTC:20210505T183000
DTEND;TZID=UTC:20210505T200000
DTSTAMP:20260420T230758
CREATED:20210424T235256Z
LAST-MODIFIED:20210424T235356Z
UID:1133-1620239400-1620244800@langleylip.ca
SUMMARY:Diversity in Books: Can You Hear Me Now?
DESCRIPTION:Join the monthly book club to discuss Celina Caesar-Chavannes’ book\, Can You Hear Me Now? Share some of your reflections from the book or her keynote speech the night before.
URL:https://langleylip.ca/event/diversity-in-books-can-you-hear-me-now/
LOCATION:BC
END:VEVENT
END:VCALENDAR