BEGIN:VCALENDAR
VERSION:2.0
PRODID:-//Langley Local Immigration Partnership - ECPv6.14.0//NONSGML v1.0//EN
CALSCALE:GREGORIAN
METHOD:PUBLISH
X-ORIGINAL-URL:https://langleylip.ca
X-WR-CALDESC:Events for Langley Local Immigration Partnership
REFRESH-INTERVAL;VALUE=DURATION:PT1H
X-Robots-Tag:noindex
X-PUBLISHED-TTL:PT1H
BEGIN:VTIMEZONE
TZID:UTC
BEGIN:STANDARD
TZOFFSETFROM:+0000
TZOFFSETTO:+0000
TZNAME:UTC
DTSTART:20210101T000000
END:STANDARD
END:VTIMEZONE
BEGIN:VEVENT
DTSTART;VALUE=DATE:20210322
DTEND;VALUE=DATE:20210327
DTSTAMP:20260421T014500
CREATED:20210218T014230Z
LAST-MODIFIED:20210306T215014Z
UID:925-1616371200-1616803199@langleylip.ca
SUMMARY:Migrants\, Migration and Mobility: COVID-19 Response and Recovery from March 22 to 26\, 2021
DESCRIPTION:Registration for the 23rd Metropolis Canada Virtual Conference entitled Migrants\, Migration and Mobility: COVID-19 Response and Recovery\, is now available. \nClick here to view the preliminary program of the conference. \nReget your conference pass by registering today! \nFor additional information\, please e-mail the Conference at metropolis@acs-aec.ca or call: (514) 925-3097.
URL:https://langleylip.ca/event/migrants-migration-and-mobility-covid-19-response-and-recovery-from-march-22-to-26-2021/
LOCATION:BC
END:VEVENT
BEGIN:VEVENT
DTSTART;TZID=UTC:20210322T110000
DTEND;TZID=UTC:20210322T130000
DTSTAMP:20260421T014500
CREATED:20210201T185037Z
LAST-MODIFIED:20210201T185037Z
UID:878-1616410800-1616418000@langleylip.ca
SUMMARY:Workshop - Supporting Diverse Youth
DESCRIPTION:Part 2 – An informative workshop on LGBTQ+ identities that educates participants on vocabulary\, appropriate language\, and respectful conduct\naround gender and sexuality. \nTo register for this event\, go to: www.linktr.ee/LangleyChildren
URL:https://langleylip.ca/event/workshop-supporting-diverse-youth-2/
LOCATION:Online\, Canada
END:VEVENT
END:VCALENDAR