BEGIN:VCALENDAR
VERSION:2.0
PRODID:-//Langley Local Immigration Partnership - ECPv6.14.0//NONSGML v1.0//EN
CALSCALE:GREGORIAN
METHOD:PUBLISH
X-WR-CALNAME:Langley Local Immigration Partnership
X-ORIGINAL-URL:https://langleylip.ca
X-WR-CALDESC:Events for Langley Local Immigration Partnership
REFRESH-INTERVAL;VALUE=DURATION:PT1H
X-Robots-Tag:noindex
X-PUBLISHED-TTL:PT1H
BEGIN:VTIMEZONE
TZID:UTC
BEGIN:STANDARD
TZOFFSETFROM:+0000
TZOFFSETTO:+0000
TZNAME:UTC
DTSTART:20210101T000000
END:STANDARD
END:VTIMEZONE
BEGIN:VEVENT
DTSTART;TZID=UTC:20210319T100000
DTEND;TZID=UTC:20210319T120000
DTSTAMP:20260421T014255
CREATED:20210306T231355Z
LAST-MODIFIED:20210306T231355Z
UID:973-1616148000-1616155200@langleylip.ca
SUMMARY:BC Public Service Career Fair
DESCRIPTION:WorkBC Langley & Maple Ridge Centres are proud to host this exciting career fair for province-wide job opportunities with BC Public Service!
URL:https://langleylip.ca/event/bc-public-service-career-fair/
LOCATION:BC
END:VEVENT
END:VCALENDAR