BEGIN:VCALENDAR
VERSION:2.0
PRODID:-//Langley Local Immigration Partnership - ECPv6.14.0//NONSGML v1.0//EN
CALSCALE:GREGORIAN
METHOD:PUBLISH
X-WR-CALNAME:Langley Local Immigration Partnership
X-ORIGINAL-URL:https://langleylip.ca
X-WR-CALDESC:Events for Langley Local Immigration Partnership
REFRESH-INTERVAL;VALUE=DURATION:PT1H
X-Robots-Tag:noindex
X-PUBLISHED-TTL:PT1H
BEGIN:VTIMEZONE
TZID:UTC
BEGIN:STANDARD
TZOFFSETFROM:+0000
TZOFFSETTO:+0000
TZNAME:UTC
DTSTART:20210101T000000
END:STANDARD
END:VTIMEZONE
BEGIN:VEVENT
DTSTART;TZID=UTC:20210311T100000
DTEND;TZID=UTC:20210311T110000
DTSTAMP:20260421T014253
CREATED:20210309T180118Z
LAST-MODIFIED:20210309T180118Z
UID:980-1615456800-1615460400@langleylip.ca
SUMMARY:GLCC Webinar: How to Hire Better
DESCRIPTION:Learn how to attract\, assess and hire for talent for your business.\nOn Thursday\, March 11\, Theresa Bolton of Customized Recruitment will walk you through recruiting best practices\, why hiring right the first time is critical to the success of your business\, and much more!
URL:https://langleylip.ca/event/glcc-webinar-how-to-hire-better/
LOCATION:BC
END:VEVENT
END:VCALENDAR