BEGIN:VCALENDAR
VERSION:2.0
PRODID:-//Langley Local Immigration Partnership - ECPv6.14.0//NONSGML v1.0//EN
CALSCALE:GREGORIAN
METHOD:PUBLISH
X-ORIGINAL-URL:https://langleylip.ca
X-WR-CALDESC:Events for Langley Local Immigration Partnership
REFRESH-INTERVAL;VALUE=DURATION:PT1H
X-Robots-Tag:noindex
X-PUBLISHED-TTL:PT1H
BEGIN:VTIMEZONE
TZID:UTC
BEGIN:STANDARD
TZOFFSETFROM:+0000
TZOFFSETTO:+0000
TZNAME:UTC
DTSTART:20210101T000000
END:STANDARD
END:VTIMEZONE
BEGIN:VEVENT
DTSTART;TZID=UTC:20210304T110000
DTEND;TZID=UTC:20210304T130000
DTSTAMP:20260421T014405
CREATED:20210222T201654Z
LAST-MODIFIED:20210222T202059Z
UID:942-1614855600-1614862800@langleylip.ca
SUMMARY:Newcomers' Orientation in the Langleys
DESCRIPTION:Are you a newcomer in Langley? Do you have questions about services? Need information about Settlement? Language? Health? Education? Safety? Join us on March 4 from 11am to 1pm. Meet service providers and learn about the services available in Langley. \nClick here to register. \nFor more information\, contact info@lcss.ca or 604.534.7921 \nPDF Poster: Newcomers’ Orientation in the Langleys March 4th 11am
URL:https://langleylip.ca/event/newcomers-orientation-in-the-langleys/
LOCATION:BC
END:VEVENT
END:VCALENDAR