BEGIN:VCALENDAR
VERSION:2.0
PRODID:-//Langley Local Immigration Partnership - ECPv6.14.0//NONSGML v1.0//EN
CALSCALE:GREGORIAN
METHOD:PUBLISH
X-WR-CALNAME:Langley Local Immigration Partnership
X-ORIGINAL-URL:https://langleylip.ca
X-WR-CALDESC:Events for Langley Local Immigration Partnership
REFRESH-INTERVAL;VALUE=DURATION:PT1H
X-Robots-Tag:noindex
X-PUBLISHED-TTL:PT1H
BEGIN:VTIMEZONE
TZID:UTC
BEGIN:STANDARD
TZOFFSETFROM:+0000
TZOFFSETTO:+0000
TZNAME:UTC
DTSTART:20210101T000000
END:STANDARD
END:VTIMEZONE
BEGIN:VEVENT
DTSTART;TZID=UTC:20210303T183000
DTEND;TZID=UTC:20210303T200000
DTSTAMP:20260421T025603
CREATED:20210211T013856Z
LAST-MODIFIED:20210211T013856Z
UID:905-1614796200-1614801600@langleylip.ca
SUMMARY:Diversity in Books: Book Club
DESCRIPTION:TCLIP\, in partnership with Coquitlam Public Library\, will host the fourth book club session for Diversity in Books – a book club to read diverse voices. \nOur book of the month in March is Older Sister. Not Necessarily Related by Jenny Heijun Wills. \nAbout the book:\n“Delving into gender\, class\, racial\, and ethnic complexities\, as well as into the complex relationships between Korean women ⁠— sisters\, mothers and daughters\, grandmothers and grandchildren\, aunts and nieces ⁠— Older Sister. Not Necessarily Related describes in visceral\, lyrical prose the painful ripple effects that follow a child’s removal from a family\, and the rewards that can flow from both struggle and forgiveness.”-from McClelland & Stewart in CBC \nRegister here: https://diversity-in-books-march.eventbrite.com
URL:https://langleylip.ca/event/diversity-in-books-book-club/
LOCATION:Online\, Canada
END:VEVENT
END:VCALENDAR