BEGIN:VCALENDAR
VERSION:2.0
PRODID:-//Langley Local Immigration Partnership - ECPv6.14.0//NONSGML v1.0//EN
CALSCALE:GREGORIAN
METHOD:PUBLISH
X-ORIGINAL-URL:https://langleylip.ca
X-WR-CALDESC:Events for Langley Local Immigration Partnership
REFRESH-INTERVAL;VALUE=DURATION:PT1H
X-Robots-Tag:noindex
X-PUBLISHED-TTL:PT1H
BEGIN:VTIMEZONE
TZID:UTC
BEGIN:STANDARD
TZOFFSETFROM:+0000
TZOFFSETTO:+0000
TZNAME:UTC
DTSTART:20210101T000000
END:STANDARD
END:VTIMEZONE
BEGIN:VEVENT
DTSTART;TZID=UTC:20210211T090000
DTEND;TZID=UTC:20210211T110000
DTSTAMP:20260421T025721
CREATED:20210202T180300Z
LAST-MODIFIED:20210202T181241Z
UID:880-1613034000-1613041200@langleylip.ca
SUMMARY:Developing Anti-Racism Skills and Competencies for Systemic Social Change
DESCRIPTION:Practical and interactive workshop that aims to denounce systemic racism against BIPOC people in Canada and empower participants with concrete skills on how to dismantle systemic racism and become effective anti-racist ally and ethically responsible citizen in the face of injustice and bigotry. \nRegistration is required: https://tinyurl.com/yxzqn46b
URL:https://langleylip.ca/event/developing-anti-racism-skills-and-competencies-for-systemic-social-change/
LOCATION:Online\, Canada
END:VEVENT
END:VCALENDAR