BEGIN:VCALENDAR
VERSION:2.0
PRODID:-//Langley Local Immigration Partnership - ECPv6.14.0//NONSGML v1.0//EN
CALSCALE:GREGORIAN
METHOD:PUBLISH
X-ORIGINAL-URL:https://langleylip.ca
X-WR-CALDESC:Events for Langley Local Immigration Partnership
REFRESH-INTERVAL;VALUE=DURATION:PT1H
X-Robots-Tag:noindex
X-PUBLISHED-TTL:PT1H
BEGIN:VTIMEZONE
TZID:UTC
BEGIN:STANDARD
TZOFFSETFROM:+0000
TZOFFSETTO:+0000
TZNAME:UTC
DTSTART:20210101T000000
END:STANDARD
END:VTIMEZONE
BEGIN:VEVENT
DTSTART;TZID=UTC:20210127T093000
DTEND;TZID=UTC:20210127T113000
DTSTAMP:20260421T043253
CREATED:20210115T173738Z
LAST-MODIFIED:20210115T174053Z
UID:832-1611739800-1611747000@langleylip.ca
SUMMARY:Free webinar: Refugee Research - National and Local Perspectives
DESCRIPTION:This free webinar is open to anyone working with and supporting refugees in Canada\, and individuals with refugee lived experiences. Community stakeholders\, community agencies\, government representatives and academics are also welcome to attend. \nThere will be plenty of time for Q&A with our speakers.\nClick here to download the agenda.\nIf you have any questions\, contact us: refugeehub@issbc.org
URL:https://langleylip.ca/event/free-webinar-refugee-research-national-and-local-perspectives/
LOCATION:BC
END:VEVENT
END:VCALENDAR