BEGIN:VCALENDAR
VERSION:2.0
PRODID:-//Langley Local Immigration Partnership - ECPv6.14.0//NONSGML v1.0//EN
CALSCALE:GREGORIAN
METHOD:PUBLISH
X-WR-CALNAME:Langley Local Immigration Partnership
X-ORIGINAL-URL:https://langleylip.ca
X-WR-CALDESC:Events for Langley Local Immigration Partnership
REFRESH-INTERVAL;VALUE=DURATION:PT1H
X-Robots-Tag:noindex
X-PUBLISHED-TTL:PT1H
BEGIN:VTIMEZONE
TZID:UTC
BEGIN:STANDARD
TZOFFSETFROM:+0000
TZOFFSETTO:+0000
TZNAME:UTC
DTSTART:20210101T000000
END:STANDARD
END:VTIMEZONE
BEGIN:VEVENT
DTSTART;TZID=UTC:20210122T090000
DTEND;TZID=UTC:20210122T103000
DTSTAMP:20260421T043129
CREATED:20210106T043236Z
LAST-MODIFIED:20210112T202046Z
UID:768-1611306000-1611311400@langleylip.ca
SUMMARY:Workshop - Indigenous Cultural Safety
DESCRIPTION:A 2 part workshop series identifying historical legislation and colonial events impacting current challenges Indigenous people face in Western Culture\, an overview of Residential School and the residual impact intergenerationally. \nPart 1 – January 22\, 2021 9-10:30am\nPart 2 – January 29\, 2021 9-10:30am \nTo register for this event\, go to: www.linktr.ee/LangleyChildren
URL:https://langleylip.ca/event/workshop-indigenous-cultural-safety/
LOCATION:Online – click link below\, Canada
END:VEVENT
END:VCALENDAR